BEGIN:VCALENDAR
VERSION:2.0
PRODID:-//wp-events-plugin.com//7.2.3.1//EN
TZID:Australia/Melbourne
X-WR-TIMEZONE:Australia/Melbourne
BEGIN:VEVENT
UID:1351@miceastmelb.com.au
DTSTART;TZID=Australia/Melbourne:20181024T170000
DTEND;TZID=Australia/Melbourne:20181024T190000
DTSTAMP:20181022T031757Z
URL:https://miceastmelb.com.au/events/centrelink-information-session-chin-
 falam-community/
SUMMARY:Centrelink Information Session - Chin Falam Community
DESCRIPTION:\n\n&nbsp\;\n\nMIC is holding a Centrelink Information Session 
 for the Chin Falam community on\n\nWednesday 24th October at the Centreal 
 Ringwod Community Centre from 5pm - 7pm\n\nThe session will cover topics o
 n: Job Active requirement\, Health Care card and Pension card\, Disabili
 ty support pension\, new Childcare Subside policy and change in Aged Pensi
 on age.\n\nRefreshments will be provided.\n\nChin Falam interpreter will b
 e present.\n\nFor further information please contact Wesley Bawia a
 t MIC on 9285 4888\n\n&nbsp\;
CATEGORIES:Featured
LOCATION:Central Ringwood Community Centre\, Bedford Park\, Rosewarne Lane\
 , Ringwood\, VIC\, 3134\, Australia
GEO:-37.8145782;145.23800519999998
X-APPLE-STRUCTURED-LOCATION;VALUE=URI;X-ADDRESS=Bedford Park\, Rosewarne La
 ne\, Ringwood\, VIC\, 3134\, Australia;X-APPLE-RADIUS=100;X-TITLE=Central 
 Ringwood Community Centre:geo:-37.8145782,145.23800519999998
END:VEVENT
BEGIN:VTIMEZONE
TZID:Australia/Melbourne
X-LIC-LOCATION:Australia/Melbourne
BEGIN:DAYLIGHT
DTSTART:20181007T030000
TZOFFSETFROM:+1000
TZOFFSETTO:+1100
TZNAME:AEDT
END:DAYLIGHT
END:VTIMEZONE
END:VCALENDAR