BEGIN:VCALENDAR
VERSION:2.0
PRODID:-//wp-events-plugin.com//7.2.3.1//EN
TZID:Australia/Melbourne
X-WR-TIMEZONE:Australia/Melbourne
BEGIN:VEVENT
UID:2078@miceastmelb.com.au
DTSTART;TZID=Australia/Melbourne:20200918T100000
DTEND;TZID=Australia/Melbourne:20200918T103000
DTSTAMP:20200706T052308Z
URL:https://miceastmelb.com.au/events/community-playgroups-hakha-chin-fala
 m-chin-english-2020-09-18/
SUMMARY:Community Playgroups - Multicultural
DESCRIPTION:&nbsp\;\n\n\n\nMulticultural Playgroups - Transition to Online 
 Groups\n\nMIC will continue to provide Community Playgroups via Zoom in Te
 rm 3. The sessions include story-time\, songs and rhymes\, demonstration o
 f craft activities to do at home and discussions.  Virtual playgroups ha
 ve given participants a chance to socialise and share ideas while in socia
 l isolation.\n\nFor more information\, please contact Juliet or Sally at M
 IC on 9285 4888 or email: jnoonan@miceastmelb.com.au or sbrooks@miceast
 melb.com.au.\n\nThis program is part funded by the Australian Government 
 Department of Home Affairs through the Settlement Engagement and Transitio
 n Support (SETS) programme and by the Victorian Government\, Department o
 f Premier and Cabinet under the Refugee and Asylum Seeker Community Capaci
 ty Building and Strategic Partnerships Program.
CATEGORIES:Featured
END:VEVENT
BEGIN:VTIMEZONE
TZID:Australia/Melbourne
X-LIC-LOCATION:Australia/Melbourne
BEGIN:STANDARD
DTSTART:20200405T020000
TZOFFSETFROM:+1100
TZOFFSETTO:+1000
TZNAME:AEST
END:STANDARD
END:VTIMEZONE
END:VCALENDAR