BEGIN:VCALENDAR
VERSION:2.0
PRODID:-//wp-events-plugin.com//7.2.3.1//EN
TZID:Australia/Melbourne
X-WR-TIMEZONE:Australia/Melbourne
BEGIN:VEVENT
UID:3365@miceastmelb.com.au
DTSTART;TZID=Australia/Melbourne:20240325T160000
DTEND;TZID=Australia/Melbourne:20240325T173000
DTSTAMP:20240228T035515Z
URL:https://miceastmelb.com.au/events/english-conversation-corner-2024-03-
 25/
SUMMARY:English Conversation Corner
DESCRIPTION:
END:VEVENT
BEGIN:VTIMEZONE
TZID:Australia/Melbourne
X-LIC-LOCATION:Australia/Melbourne
BEGIN:DAYLIGHT
DTSTART:20231001T030000
TZOFFSETFROM:+1000
TZOFFSETTO:+1100
TZNAME:AEDT
END:DAYLIGHT
END:VTIMEZONE
END:VCALENDAR