BEGIN:VCALENDAR
VERSION:2.0
PRODID:-//wp-events-plugin.com//7.2.3.1//EN
TZID:Australia/Melbourne
X-WR-TIMEZONE:Australia/Melbourne
BEGIN:VEVENT
UID:1824@miceastmelb.com.au
DTSTART;TZID=Australia/Melbourne:20200117T090000
DTEND;TZID=Australia/Melbourne:20200117T150000
DTSTAMP:20191121T060407Z
URL:https://miceastmelb.com.au/events/fishing-program-excursion-day/
SUMMARY:Fishing Program - Excursion Day
DESCRIPTION:
LOCATION:Lillydale Lake Park\, 435 Swansea Rd\, Lilydale\, Vic\, 3140\, Aus
 tralia
X-APPLE-STRUCTURED-LOCATION;VALUE=URI;X-ADDRESS=435 Swansea Rd\, Lilydale\,
  Vic\, 3140\, Australia;X-APPLE-RADIUS=100;X-TITLE=Lillydale Lake Park:geo
 :0,0
END:VEVENT
BEGIN:VTIMEZONE
TZID:Australia/Melbourne
X-LIC-LOCATION:Australia/Melbourne
BEGIN:DAYLIGHT
DTSTART:20191006T030000
TZOFFSETFROM:+1000
TZOFFSETTO:+1100
TZNAME:AEDT
END:DAYLIGHT
END:VTIMEZONE
END:VCALENDAR