BEGIN:VCALENDAR
VERSION:2.0
PRODID:-//wp-events-plugin.com//7.2.3.1//EN
TZID:Australia/Melbourne
X-WR-TIMEZONE:Australia/Melbourne
BEGIN:VEVENT
UID:1823@miceastmelb.com.au
DTSTART;TZID=Australia/Melbourne:20191220T180000
DTEND;TZID=Australia/Melbourne:20191220T200000
DTSTAMP:20191121T060046Z
URL:https://miceastmelb.com.au/events/fishing-program-information-session/
SUMMARY:Fishing Program - Information Session
DESCRIPTION:
LOCATION:Box Hill Town Hall - Boyland Room\, 27 Bank Street\, Box Hill\, Vi
 ctoria\, 3128\, Australia
X-APPLE-STRUCTURED-LOCATION;VALUE=URI;X-ADDRESS=27 Bank Street\, Box Hill\,
  Victoria\, 3128\, Australia;X-APPLE-RADIUS=100;X-TITLE=Box Hill Town Hall
  - Boyland Room:geo:0,0
END:VEVENT
BEGIN:VTIMEZONE
TZID:Australia/Melbourne
X-LIC-LOCATION:Australia/Melbourne
BEGIN:DAYLIGHT
DTSTART:20191006T030000
TZOFFSETFROM:+1000
TZOFFSETTO:+1100
TZNAME:AEDT
END:DAYLIGHT
END:VTIMEZONE
END:VCALENDAR