BEGIN:VCALENDAR
VERSION:2.0
PRODID:-//wp-events-plugin.com//7.2.3.1//EN
TZID:Australia/Melbourne
X-WR-TIMEZONE:Australia/Melbourne
BEGIN:VEVENT
UID:1350@miceastmelb.com.au
DTSTART;TZID=Australia/Melbourne:20181204T160000
DTEND;TZID=Australia/Melbourne:20181204T170000
DTSTAMP:20181025T012828Z
URL:https://miceastmelb.com.au/events/mic-book-launch/
SUMMARY:Young Women's Book Launch
DESCRIPTION:You are invited!\nPlease join us in celebrating the launch of '
 Blib Blib Blop Blop: In this boat together' - A collection of seven ficti
 onal stories by young women from refugee backgrounds.\n   \n\nBe the fir
 st to hear about the work put into this unique publication and first of it
 s kind at the Migrant Information Centre (Eastern Melbourne).\n\nMeet the 
 writers behind the stories who worked hard to produce short stories.\n\nLe
 arn how the young women harnessed the powerful skills of storytelling.\n\
 n----\nTUESDAY 4th DECEMBER 2018\n4:00 - 5:00pm\nREALM (Ringwood Libr
 ary)\, LEVEL 2\, Digital Lab\n----\n\nTo RSVP or for more information c
 ontact\n\nJessica Thompson\n\nPhone: O457 597 043  or  (03) 9285-4888\n\
 nEmail: JessicaT@miceastmelb.com.au\n\nLight refreshments will be provided
LOCATION:Digital Lab\, Level 2\, 179 Maroondah Highway\, Ringwood\, Victori
 a\, 3134\, Australia
GEO:-37.8148553;145.22897260000002
X-APPLE-STRUCTURED-LOCATION;VALUE=URI;X-ADDRESS=179 Maroondah Highway\, Rin
 gwood\, Victoria\, 3134\, Australia;X-APPLE-RADIUS=100;X-TITLE=Digital Lab
 \, Level 2:geo:-37.8148553,145.22897260000002
END:VEVENT
BEGIN:VTIMEZONE
TZID:Australia/Melbourne
X-LIC-LOCATION:Australia/Melbourne
BEGIN:DAYLIGHT
DTSTART:20181007T030000
TZOFFSETFROM:+1000
TZOFFSETTO:+1100
TZNAME:AEDT
END:DAYLIGHT
END:VTIMEZONE
END:VCALENDAR