BEGIN:VCALENDAR
VERSION:2.0
PRODID:-//wp-events-plugin.com//7.2.3.1//EN
TZID:Australia/Melbourne
X-WR-TIMEZONE:Australia/Melbourne
BEGIN:VEVENT
UID:1957@miceastmelb.com.au
DTSTART;TZID=Australia/Melbourne:20200206T000000
DTEND;TZID=Australia/Melbourne:20200326T000000
DTSTAMP:20200130T030136Z
URL:https://miceastmelb.com.au/events/mic-youth-swimming-program-2/
SUMMARY:MIC Youth Swimming Program
DESCRIPTION:Would you like to build your confidence to swim?\n\nCome and ge
 t low cost swimming lessons with a qualified swimming teacher\n\nFor $12 p
 er person you will get 8 x  30 minute lessons. You can give the money to 
 MIC at the first lesson.\n\n\n\nLessons are every Thursday for eight weeks
  starting on Thursday 6th February 2020 until Thursday 26th March 2020.\n\
 n4.00 pm to 6.00 pm at Aquanation\, Greenwood Avenue\, Ringwood\n\n&nbsp\;
 \n\nPriority is given to youth who are\n\n 	from refugee of family stream 
 migrant background\n 	lived in Australia less than 5 years\n 	never joined
  MIC swimming program before\n 	committed to come to all 8 lessons\n\n&nbs
 p\;\n\nYou can register online with the link below.\n\n&nbsp\;\n\nFor more
  information please contact\n\nTara 0424 595 966\n\nJessica 0457 597 043
LOCATION:Aquanation\, Greenwood Avenue\, Ringwood\, Australia
GEO:-37.82549;145.231552
X-APPLE-STRUCTURED-LOCATION;VALUE=URI;X-ADDRESS=Greenwood Avenue\, Ringwood
 \, Australia;X-APPLE-RADIUS=100;X-TITLE=Aquanation:geo:-37.82549,145.23155
 2
END:VEVENT
BEGIN:VTIMEZONE
TZID:Australia/Melbourne
X-LIC-LOCATION:Australia/Melbourne
BEGIN:DAYLIGHT
DTSTART:20191006T030000
TZOFFSETFROM:+1000
TZOFFSETTO:+1100
TZNAME:AEDT
END:DAYLIGHT
END:VTIMEZONE
END:VCALENDAR