BEGIN:VCALENDAR
VERSION:2.0
PRODID:-//wp-events-plugin.com//7.2.3.1//EN
TZID:Australia/Melbourne
X-WR-TIMEZONE:Australia/Melbourne
BEGIN:VEVENT
UID:1029@miceastmelb.com.au
DTSTART;TZID=Australia/Melbourne:20170209T160000
DTEND;TZID=Australia/Melbourne:20170330T180000
DTSTAMP:20170130T054250Z
URL:https://miceastmelb.com.au/events/multicultural-youth-swimming-program
 /
SUMMARY:Multicultural Youth Swimming Program
DESCRIPTION:
CATEGORIES:Featured,Youth
LOCATION:Croydon Leisure and Aquatic  Centre\, 11 Civic Square\, Croydon\, 
 Victoria\, 3136\, Australia
GEO:-37.8011079;145.28043189999994
X-APPLE-STRUCTURED-LOCATION;VALUE=URI;X-ADDRESS=11 Civic Square\, Croydon\,
  Victoria\, 3136\, Australia;X-APPLE-RADIUS=100;X-TITLE=Croydon Leisure an
 d Aquatic  Centre:geo:-37.8011079,145.28043189999994
END:VEVENT
BEGIN:VTIMEZONE
TZID:Australia/Melbourne
X-LIC-LOCATION:Australia/Melbourne
BEGIN:DAYLIGHT
DTSTART:20161002T030000
TZOFFSETFROM:+1000
TZOFFSETTO:+1100
TZNAME:AEDT
END:DAYLIGHT
END:VTIMEZONE
END:VCALENDAR