BEGIN:VCALENDAR
VERSION:2.0
PRODID:-//wp-events-plugin.com//7.2.3.1//EN
TZID:Australia/Melbourne
X-WR-TIMEZONE:Australia/Melbourne
BEGIN:VEVENT
UID:3240@miceastmelb.com.au
DTSTART;TZID=Australia/Melbourne:20230808T170000
DTEND;TZID=Australia/Melbourne:20230808T190000
DTSTAMP:20230816T060647Z
URL:https://miceastmelb.com.au/events/saver-plus-program-hakha-chin-2023-0
 8-08/
SUMMARY:Saver Plus Program - Hakha Chin
DESCRIPTION:MIC will hold an 8-week Saver Plus program for women from the H
 akha Chin community. The sessions will be held weekly over Zoom from 5pm t
 o 7pm. For more information\, please contact Tial from MIC on (03) 9285 48
 88.
END:VEVENT
BEGIN:VTIMEZONE
TZID:Australia/Melbourne
X-LIC-LOCATION:Australia/Melbourne
BEGIN:STANDARD
DTSTART:20230402T020000
TZOFFSETFROM:+1100
TZOFFSETTO:+1000
TZNAME:AEST
END:STANDARD
END:VTIMEZONE
END:VCALENDAR