BEGIN:VCALENDAR
VERSION:2.0
PRODID:-//wp-events-plugin.com//7.2.3.1//EN
TZID:Australia/Melbourne
X-WR-TIMEZONE:Australia/Melbourne
BEGIN:VEVENT
UID:1349@miceastmelb.com.au
DTSTART;TZID=Australia/Melbourne:20181121T160000
DTEND;TZID=Australia/Melbourne:20181128T180000
DTSTAMP:20181019T012432Z
URL:https://miceastmelb.com.au/events/young-womens-indoor-soccer-clinic/
SUMMARY:Young Women’s Indoor Soccer Clinic
DESCRIPTION:Ladies! Come and Try Soccer!FREE 2 day soccer clinic for YOU to
  come and learn tips and game rules from a friendly soccer coach!\n\n\n 	
 Try something new\n 	Learn soccer skills\n 	Make new friends\n 	Be physica
 lly active\n 	Find out how to join local soccer clubs\n\nCome join other y
 oung women (aged 12-20) in this relaxed\, fun and supportive environment.\
 nWednesday 21/11/2018 and 28/11/2018\n4:oo - 6:00pm\nRingwood Action Indoo
 r Sports Centre\n\nPlease register on the link below to let Jessica know y
 ou are coming!\nFor more information\, call 0457 597 043\nHope to see you 
 there!!
LOCATION:Ringwood Action Indoor Sports\, 160 New Street\, Ringwood\, Victor
 ia\, 3134\, Australia
GEO:-37.826259;145.22009100000002
X-APPLE-STRUCTURED-LOCATION;VALUE=URI;X-ADDRESS=160 New Street\, Ringwood\,
  Victoria\, 3134\, Australia;X-APPLE-RADIUS=100;X-TITLE=Ringwood Action In
 door Sports:geo:-37.826259,145.22009100000002
END:VEVENT
BEGIN:VTIMEZONE
TZID:Australia/Melbourne
X-LIC-LOCATION:Australia/Melbourne
BEGIN:DAYLIGHT
DTSTART:20181007T030000
TZOFFSETFROM:+1000
TZOFFSETTO:+1100
TZNAME:AEDT
END:DAYLIGHT
END:VTIMEZONE
END:VCALENDAR